BEGIN:VCALENDAR
PRODID:-//eluceo/ical//2.0/EN
VERSION:2.0
CALSCALE:GREGORIAN
BEGIN:VEVENT
UID:b39d95628fee6bb5aa45eeb643b4c911
DTSTAMP:20260421T124032Z
SUMMARY:Paraíso de Coura
DESCRIPTION:Cronograma\nLun-Vie 09:00-17:00\n\nDescripción\nLa muestra pre
 senta una colección de fotografías que capturan la esencia y la evoluci
 ón del Festival Vodafone Paredes de Coura a lo largo de 20 años. \n\nSe 
 trata de una oportunidad para que el público vuelva a visitar o descubra 
 la historia de este emblemático festival de música a través de la mirad
 a de uno de los fotógrafos portugueses más importantes. \n\nLa exposici
 ón pretende destacar la importancia cultural y el impacto del Festival de
  Paredes de Coura\, que se ha convertido en una referencia nacional\, y la
  forma en que la música y el arte se entrecruzan en la sociedad.
URL:https://iporto.amp.pt/es/eventos/paraiso-de-coura/
DTSTART:20250806
DTEND:20250905
CATEGORIES:Exposiciones
END:VEVENT
END:VCALENDAR
