BEGIN:VCALENDAR
PRODID:-//eluceo/ical//2.0/EN
VERSION:2.0
CALSCALE:GREGORIAN
BEGIN:VEVENT
UID:7ff643166c324c1372951801735af888
DTSTAMP:20260420T155524Z
SUMMARY:Peddy-paper "Da Sé à Ribeira"
DESCRIPTION:Cronograma\n9:30h-12:30h / 14:00h-17:00h\, terça a sexta\n\nDe
 scripción\nO ponto de partida deste pedipaper é o Terreiro da Sé. Em pe
 quenos grupos vamos pelas ruas com olhos de detetive à procura de pistas 
 até à Ribeira. Aqui visitamos a Casa do Infante.
URL:https://iporto.amp.pt/es/eventos/peddy-paper-da-se-a-ribeira-2/
DTSTART:20180703
DTEND:20180801
CATEGORIES:Servicio Educativo
END:VEVENT
END:VCALENDAR
