BEGIN:VCALENDAR
PRODID:-//eluceo/ical//2.0/EN
VERSION:2.0
CALSCALE:GREGORIAN
BEGIN:VEVENT
UID:a7ebb765bbfddecfacb22d2ae7afd07f
DTSTAMP:20260423T172422Z
SUMMARY:PINTURA DE JOÃO REBELO
DESCRIPTION:Descripción\nPintor e professor de Filosofia\, João Andrade R
 ebelo executa magníficos trabalhos que retratam a região do Douro e rela
 cionam a sua pintura com a vinha\, utensílios e histórias de vida. Const
 rói os seus desenhos a partir do computador e transfere depois para a tel
 a os trabalhos imprimidos. Adepto do figurativo\, o artista tem participad
 o em inúmeras exposições\, sobretudo levadas a cabo em localidades onde
  era colocado como docente.
URL:https://iporto.amp.pt/es/eventos/pintura-de-joao-rebelo_es/
DTSTART:20130406
DTEND:20130428
LOCATION:Praça da República\, 4480-715 Vila do Conde
GEO:41.351937;-8.741091
X-APPLE-STRUCTURED-LOCATION;VALUE=URI;X-ADDRESS=Praça da República\, 4480
 -715 Vila do Conde;X-APPLE-RADIUS=49;X-TITLE=:geo:41.351937,-8.741091
CATEGORIES:Exposiciones
END:VEVENT
END:VCALENDAR
