BEGIN:VCALENDAR
PRODID:-//eluceo/ical//2.0/EN
VERSION:2.0
CALSCALE:GREGORIAN
BEGIN:VEVENT
UID:24f639c393deee502df0e0cc1ee2480b
DTSTAMP:20260421T101144Z
SUMMARY:Sin tierra a la vista
DESCRIPTION:Cronograma\nMar-Dom 10:00-12:30/14:00-17:30\n\nDescripción\nCo
 n cerca de 100 obras de la Colección Norlinda y José Lima\, la exposici
 ón toma como referencia el último libro del poeta serbio-estadounidense 
 Charles Simic\, "No Land in Sight: Poems" (2022)\, y adopta la metáfora d
 e la navegación sin horizonte como imagen de una humanidad que se enfrent
 a a la inestabilidad política\, la fragilidad democrática\, la crisis cl
 imática y las desigualdades estructurales.\n\nComisaria: Paula Cabaleiro\
 n\nMás información\nInauguración a las 16:00
URL:https://iporto.amp.pt/es/eventos/sin-tierra-a-la-vista/
DTSTART:20260418
DTEND:20270125
LOCATION:Rua Paula Rego\, 3700-119 S. João da Madeira
GEO:40.906111;-8.497440
X-APPLE-STRUCTURED-LOCATION;VALUE=URI;X-ADDRESS=Rua Paula Rego\, 3700-119 S
 . João da Madeira;X-APPLE-RADIUS=49;X-TITLE=:geo:40.906111,-8.497440
CATEGORIES:Exposiciones
END:VEVENT
END:VCALENDAR
