BEGIN:VCALENDAR
PRODID:-//eluceo/ical//2.0/EN
VERSION:2.0
CALSCALE:GREGORIAN
BEGIN:VEVENT
UID:61f36c241ddd2df1669371b9e824c347
DTSTAMP:20260421T084223Z
SUMMARY:Solo
DESCRIPTION:Cronograma\n18:30-20:00\n\nDescripción\n"Solo" es una serie qu
 incenal de conciertos en solitario organizada por João Pedro Dias (trompe
 tista afincado en Porto) en el estudio Sparks. \n\nCada músico es invitad
 o a expresarse musicalmente en un concierto en solitario. Se trata de una 
 gran oportunidad para asistir a diversos tipos de actuaciones y conciertos
  únicos en Porto.\n\nMás información\nBilletes: 5€\n\nhttps://www.ins
 tagram.com/solo_concerts/
URL:https://iporto.amp.pt/es/eventos/solo-4/
DTSTART:20260421
CATEGORIES:Música
END:VEVENT
END:VCALENDAR
