BEGIN:VCALENDAR
PRODID:-//eluceo/ical//2.0/EN
VERSION:2.0
CALSCALE:GREGORIAN
BEGIN:VEVENT
UID:95f64815ca295dc3e7702aeaaaf574fe
DTSTAMP:20260419T145315Z
SUMMARY:Trilobites...um rasto de história
DESCRIPTION:Cronograma\n09:00h-12:30h/14:00h-17:30h\, segunda a sexta\n\nDe
 scripción\nPretende dar a conhecer um ser que habitou os mares que existi
 am há cerca de 500 milhões de anos na região que hoje é Valongo e que 
 se estendia até Arouca\, e que só conhecemos graças aos fósseis que se
  vão encontrando. Porque se chamam trilobites? Porque é que há exemplar
 es que vão do minúsculo ao gigante? Como era o seu habitat? Só aparecem
  em Portugal? Como se locomoviam? Como mudavam de carapaça? São algumas 
 das questões que pode vir investigar para satisfazer a sua curiosidade em
  relação aos antepassados dos bichinhos de conta. Esperamos por si...
URL:https://iporto.amp.pt/es/eventos/trilobites-um-rasto-de-historia-1/
DTSTART:20170421
DTEND:20180929
CATEGORIES:Exposiciones
END:VEVENT
END:VCALENDAR
