BEGIN:VCALENDAR
PRODID:-//eluceo/ical//2.0/EN
VERSION:2.0
CALSCALE:GREGORIAN
BEGIN:VEVENT
UID:8ba88d19db0989847c8f953a9dbc9e97
DTSTAMP:20260420T142448Z
SUMMARY:Viaje Medieval en Tierras de Santa Maria
DESCRIPTION:Más información\nhttps://www.viagemmedieval.com/
URL:https://iporto.amp.pt/es/eventos/viaje-medieval-en-tierras-de-santa-mar
 ia/
DTSTART:20250730
DTEND:20250811
LOCATION:Santa Maria da Feira
GEO:40.923552;-8.541517
X-APPLE-STRUCTURED-LOCATION;VALUE=URI;X-ADDRESS=Santa Maria da Feira;X-APPL
 E-RADIUS=49;X-TITLE=:geo:40.923552,-8.541517
CATEGORIES:Festivales
END:VEVENT
END:VCALENDAR
