BEGIN:VCALENDAR
PRODID:-//eluceo/ical//2.0/EN
VERSION:2.0
CALSCALE:GREGORIAN
BEGIN:VEVENT
UID:75659b3e33a5519b58a6bc8f2abe4bde
DTSTAMP:20260420T101242Z
SUMMARY:A Cidade Dança
DESCRIPTION:Descrição\nA Cidade Dança\, com curadoria de São Castro\, a
 ssinala todos os anos o Dia Mundial da Dança\, no mês de abril. Este ano
 \, o festival acontece de 28 de abril a 3 de maio\, com uma programação 
 dedicada a esta expressão artística. Com propostas de espetáculos\, exi
 bição de documentários\, encontros entre público e artistas\, formaç
 ão no domínio profissional ou lúdico\, em vários espaços da cidade\, 
 são vários os artistas e estruturas convidadas da área da criação art
 ística nacional e internacional\, assim como é convocado o tecido artís
 tico residente na cidade que se dedica a este ofício do corpo.\n\nMais in
 formação\nPrograma: https://www.playfalse.pt/a-cidade-dan%C3%A7a
URL:https://iporto.amp.pt/eventos/a-cidade-danca-3/
DTSTART:20260428
DTEND:20260504
CATEGORIES:Dança
END:VEVENT
END:VCALENDAR
