BEGIN:VCALENDAR
PRODID:-//eluceo/ical//2.0/EN
VERSION:2.0
CALSCALE:GREGORIAN
BEGIN:VEVENT
UID:66da6e8bd5fbc772212a923b76d486e0
DTSTAMP:20260420T102415Z
SUMMARY:A Cinderela de Prokofiev
DESCRIPTION:Horário\n11:00\n\nDescrição\nA Cinderela\, de Prokofiev\, ap
 resenta-se a 10 de maio\, inspirado no clássico conto de fadas\, aqui int
 erpretado pela Orquestra Sinfónica ARTAVE. É uma composição rica em te
 mas associados às personagens e às emoções\, incluindo o tema mais con
 hecido\, “A Valsa da Cinderela". Promete levar os espectadores numa carr
 uagem de transformação\, esplendor e magia\, com o feitiço que se desfa
 z à meia noite.\n\nMais informação\nCom o propósito de aproximar públ
 icos de todas as idades às melhores histórias e melodias da música clá
 ssica\, os Concertos Promenade foram introduzidos em Portugal pelo Coliseu
  em 2005.\n\nCom direção artística do Maestro Cesário Costa\, comentá
 rios de Jorge Castro Ribeiro e design multimédia de Sara Botelho\, miúdo
 s e graúdos são convidados a entrar\, ao ritmo de um domingo por mês\, 
 no ambiente de uma ou mais obras emblemáticas e a descobrir todas as suas
  curiosidades.
URL:https://iporto.amp.pt/eventos/a-cinderela-de-prokofiev/
DTSTART:20260510
CATEGORIES:Música
END:VEVENT
END:VCALENDAR
