BEGIN:VCALENDAR
PRODID:-//eluceo/ical//2.0/EN
VERSION:2.0
CALSCALE:GREGORIAN
BEGIN:VEVENT
UID:3b6cd4398de181399de55fd7046a5f0a
DTSTAMP:20260425T231506Z
SUMMARY:A Magia do Som
DESCRIPTION:Horário\n10:30 | 14:30\n\nDescrição\nNesta oficina de experi
 mentação sonora\, aberta a todos\, vamos viver uma aventura musical a pa
 rtir do Sistema Sonar – um conjunto singular de instrumentos criados em 
 torno de um órgão de tubos robótico. Com ele\, exploramos a criação m
 usical de forma livre\, intuitiva e colaborativa.\n\nMais informação\nP
 úblico Alvo:\nFamílias e Público Geral (recomendado a maiores de 6 anos
 )
URL:https://iporto.amp.pt/eventos/a-magia-do-som/
DTSTART:20260328
LOCATION:Avenida da Boavista\, 604-610\, 4149-071 Porto
GEO:41.159059;-8.630685
X-APPLE-STRUCTURED-LOCATION;VALUE=URI;X-ADDRESS=Avenida da Boavista\, 604-6
 10\, 4149-071 Porto;X-APPLE-RADIUS=49;X-TITLE=:geo:41.159059,-8.630685
CATEGORIES:Serviço Educativo
END:VEVENT
END:VCALENDAR
