BEGIN:VCALENDAR
PRODID:-//eluceo/ical//2.0/EN
VERSION:2.0
CALSCALE:GREGORIAN
BEGIN:VEVENT
UID:3bb5da817eb4638a8ecfff33ef9c6cad
DTSTAMP:20260422T135751Z
SUMMARY:Abril Febril
DESCRIPTION:Horário\n18:00\n\nDescrição\nAbril Febril é uma homenagem 
 à fervorosa atmosfera de Abril de 1974. \nNa sua terceira edição na Con
 cha Acústica dos Jardins do Palácio de Cristal\, a Galeria Municipal do 
 Porto reúne uma série de projetos musicais que abraçam o imaginário da
  época e ensaiam o que esse período pode significar hoje.\n \nO programa
  apresenta a experimentação da música folclórica galega de Carme Lópe
 z\; a reinterpretação da música celta e transmontana de emmy Curl\; os 
 ritmos da diáspora africana de Fidju Kitxora\; e a cultura e música ciga
 na de La Família Gitana\, explorando várias possibilidades do que se ent
 ende como música tradicional.\n\nMais informação\nhttps://www.galeriamu
 nicipaldoporto.pt/pt/programas/outros-programas/abril-febril-2026
URL:https://iporto.amp.pt/eventos/abril-febril-2/
DTSTART:20260425
LOCATION:Rua D. Manuel II
GEO:41.148478;-8.625559
X-APPLE-STRUCTURED-LOCATION;VALUE=URI;X-ADDRESS=Rua D. Manuel II;X-APPLE-RA
 DIUS=49;X-TITLE=:geo:41.148478,-8.625559
CATEGORIES:Música
END:VEVENT
END:VCALENDAR
