BEGIN:VCALENDAR
PRODID:-//eluceo/ical//2.0/EN
VERSION:2.0
CALSCALE:GREGORIAN
BEGIN:VEVENT
UID:393e4bc3c4cfd375462c72b5053deb84
DTSTAMP:20260422T171604Z
SUMMARY:Abril Febril
DESCRIPTION:Horário\n18:30-21:30\n\nDescrição\nAbril Febril é uma homen
 agem à fervorosa atmosfera de Abril de 1974 e de reflexão sobre o seu si
 gnificado nos dias de hoje.  \n \nDepois de uma primeira edição de celeb
 ração dos 50 anos da Revolução dos Cravos\, a Galeria Municipal do Por
 to volta a reunir na Concha Acústica do Palácio de Cristal uma série de
  projetos musicais em torno de uma causa comum: manter viva a chama da rev
 olução e os ideais que ela representa.\n\nMais informação\n18:30 Claia
 na\n19:30 Nenny\n20:30 Prétu\n\nEntrada livre
URL:https://iporto.amp.pt/eventos/abril-febril/
DTSTART:20250424
LOCATION:Rua D. Manuel II
GEO:41.148478;-8.625559
X-APPLE-STRUCTURED-LOCATION;VALUE=URI;X-ADDRESS=Rua D. Manuel II;X-APPLE-RA
 DIUS=49;X-TITLE=:geo:41.148478,-8.625559
CATEGORIES:Música
END:VEVENT
END:VCALENDAR
