BEGIN:VCALENDAR
PRODID:-//eluceo/ical//2.0/EN
VERSION:2.0
CALSCALE:GREGORIAN
BEGIN:VEVENT
UID:c4728981470199af04d95afedf3876be
DTSTAMP:20260421T101714Z
SUMMARY:Anna Ratto
DESCRIPTION:Horário\n21:30\n\nDescrição\nQuatro anos após o disco Conta
 to imediato – Anna Ratto visita Arnaldo Antunes\, a jovem cantora e comp
 ositora brasileira – “uma das melhores vozes da sua geração”\, seg
 undo o jornalista e músico Nelson Motta – volta ao cancioneiro do artis
 ta paulistano no álbum Vison Negro\, lançado há pouco mais de uma seman
 a. Cinco faixas são inéditas\, incluindo o tema-título e o single de av
 anço\, Todo dia e toda hora com você.\n\nMais informação\nEntrada livr
 e\n\nM/6
URL:https://iporto.amp.pt/eventos/anna-ratto/
DTSTART:20250424
LOCATION:Avenida da Boavista\, 604-610\, 4149-071 Porto
GEO:41.159059;-8.630685
X-APPLE-STRUCTURED-LOCATION;VALUE=URI;X-ADDRESS=Avenida da Boavista\, 604-6
 10\, 4149-071 Porto;X-APPLE-RADIUS=49;X-TITLE=:geo:41.159059,-8.630685
CATEGORIES:Música
END:VEVENT
END:VCALENDAR
