BEGIN:VCALENDAR
PRODID:-//eluceo/ical//2.0/EN
VERSION:2.0
CALSCALE:GREGORIAN
BEGIN:VEVENT
UID:8f4ee063f0f0117616e94e4fb7bd01ca
DTSTAMP:20260422T085826Z
SUMMARY:Bruno Pernadas
DESCRIPTION:Horário\n18:00h
URL:https://iporto.amp.pt/eventos/bruno-pernadas/
DTSTART:20190714
LOCATION:Rua Alfredo Cunha/ Avenida da\n República/ Avenida da Liberdade.
GEO:41.182921;-8.683845
X-APPLE-STRUCTURED-LOCATION;VALUE=URI;X-ADDRESS=Rua Alfredo Cunha/ Avenida 
 da\n República/ Avenida da Liberdade.;X-APPLE-RADIUS=49;X-TITLE=:geo:41.1
 82921,-8.683845
CATEGORIES:Música
END:VEVENT
END:VCALENDAR
