BEGIN:VCALENDAR
PRODID:-//eluceo/ical//2.0/EN
VERSION:2.0
CALSCALE:GREGORIAN
BEGIN:VEVENT
UID:18b82aecf7bf4093339acb03f84bca60
DTSTAMP:20260423T073336Z
SUMMARY:Camilo e o Jogo na Póvoa Balnear
DESCRIPTION:Horário\nTer-Dom 09:30-12:30/13:30-17:00 | Seg\, feriados ence
 rrado\n\nDescrição\nA justificação para a permanência de Camilo Caste
 lo Branco na Póvoa prendia-se com as recomendações médicas de banhos d
 e mar\, prescrição para os achaques que o afligiam e deprimiam\, todavia
 \, o jogo e a animação dos concorridos e luxuosos cafés constituíam um
 a atração mais poderosa para o seu espírito inquieto. \n\nA exposição
  remete-nos para o ambiente da Póvoa em finais do século XIX\, quando a 
 projeção da vila se fazia tanto pela atividade piscatória como pelo mov
 imento turístico no período balnear.\n\nMais informação\nhttps://www.c
 m-pvarzim.pt/eventos/exposicao-camilo-e-o-jogo-na-povoa-balnear/
URL:https://iporto.amp.pt/eventos/camilo-e-o-jogo-na-povoa-balnear/
DTSTART:20250218
DTEND:20270101
CATEGORIES:Exposições
END:VEVENT
END:VCALENDAR
