BEGIN:VCALENDAR
PRODID:-//eluceo/ical//2.0/EN
VERSION:2.0
CALSCALE:GREGORIAN
BEGIN:VEVENT
UID:2c7a8deae292bb4ef2b3a4077afa6d8d
DTSTAMP:20260424T142645Z
SUMMARY:Camilo – Vida e Obra
DESCRIPTION:Horário\n21:30\n\nDescrição\n"Camilo – Vida e Obra" é um 
 bailado contemporâneo do Ballet do Douro\, com conceito e coreografia de 
 Sílvia Boga\, que recria a vida e o universo literário de Camilo Castelo
  Branco\, no âmbito das comemorações do bicentenário camiliano.\n\nMai
 s informação\nhttps://www.cm-gaia.pt/pt/eventos/camilo-vida-e-obra/
URL:https://iporto.amp.pt/eventos/camilo-vida-e-obra/
DTSTART:20260430
LOCATION:Rua de Moçambique\, 4430-145 Vila Nova de Gaia
GEO:41.123368;-8.603618
X-APPLE-STRUCTURED-LOCATION;VALUE=URI;X-ADDRESS=Rua de Moçambique\, 4430-1
 45 Vila Nova de Gaia;X-APPLE-RADIUS=49;X-TITLE=:geo:41.123368,-8.603618
CATEGORIES:Dança
END:VEVENT
END:VCALENDAR
