BEGIN:VCALENDAR
PRODID:-//eluceo/ical//2.0/EN
VERSION:2.0
CALSCALE:GREGORIAN
BEGIN:VEVENT
UID:afcee6524c534579c3438d61502747fe
DTSTAMP:20260419T132036Z
SUMMARY:Concerto: Coro Gregoriano do Porto
DESCRIPTION:Horário\n21:30h\n\nDescrição\nA música gregoriana\, habitua
 lmente executada por monges ou monjas nos seus mosteiros\, é uma forma de
  oração\, que acabou por se transformar em arte. O Mosteiro de Arouca é
  também um dos guardiães dos códices manuscritos que chegaram aos nosso
 s dias\, e que espelham a profundidade da tradição deste tipo de canto n
 os espaços religiosos. A 30 de abril\, o Coro Gregoriano do Porto apresen
 ta um concerto em que dá a conhecer esta música\, no lançamento das fes
 tas em honra da Rainha Santa Mafalda. O concerto tem lugar no coro das fre
 iras (Cadeiral) do Mosteiro de Arouca\, a partir das 21:30.
URL:https://iporto.amp.pt/eventos/concerto-coro-gregoriano-do-porto/
DTSTART:20150430
CATEGORIES:Música
END:VEVENT
END:VCALENDAR
