BEGIN:VCALENDAR
PRODID:-//eluceo/ical//2.0/EN
VERSION:2.0
CALSCALE:GREGORIAN
BEGIN:VEVENT
UID:c5d15d8cba3e02f30b5319c072b53c78
DTSTAMP:20260419T132553Z
SUMMARY:Deafheaven| Myrkur
DESCRIPTION:Horário\n21:30h-01:00h\n\nDescrição\nDançando mais uma vez 
 entre a agressão do black metal e a candura do shoegaze\, os Deafheaven t
 êm em New Bermuda mais uma obra-prima em mãos – e qualquer dúvida ser
 á dissipada quando subirem ao palco do Hard Club a 5 de Março. O início
  da noite não será menos memorável: Myrkur\, o recente mas muito escrut
 inado projecto da dinamarquesa Amalie Brunn\, acompanha os Deafheaven nest
 a digressão e fará aqui a sua estreia em Portugal.
URL:https://iporto.amp.pt/eventos/deafheaven-myrkur/
DTSTART:20160305
DTEND:20160307
LOCATION:Praça do Infante D. Henrique\, Porto
GEO:41.142076;-8.614886
X-APPLE-STRUCTURED-LOCATION;VALUE=URI;X-ADDRESS=Praça do Infante D. Henriq
 ue\, Porto;X-APPLE-RADIUS=49;X-TITLE=:geo:41.142076,-8.614886
CATEGORIES:Música
END:VEVENT
END:VCALENDAR
