BEGIN:VCALENDAR
PRODID:-//eluceo/ical//2.0/EN
VERSION:2.0
CALSCALE:GREGORIAN
BEGIN:VEVENT
UID:34835c09315a9833465e758da9809f4f
DTSTAMP:20260426T032813Z
SUMMARY:Édipo - de Sófocles
DESCRIPTION:Horário\n21:30h\, terça a sábado 16:00\, domingo\n\nDescriç
 ão\nCom a reposição do espetáculo de referência Édipo\, de Sófocles
 \, o Teatro do Bolhão inaugura o novo espaço - Palácio do Bolhão.\n\nM
 ais informação\n&Eacute\;dipo Reposi&ccedil\;&atilde\;o &nbsp\;No contex
 to da inaugura&ccedil\;&atilde\;o do novo espa&ccedil\;o da companhia - o 
 Pal&aacute\;cio do Bolh&atilde\;o - apresentamos um dos espet&aacute\;culo
 s mais referentes: &Eacute\;dipo. - Na cidade prostrada e dizimada pela pe
 ste o rei &Eacute\;dipo procura obsessivamente a verdade que o acabar&aacu
 te\; por destruir. Mas a lenda do homem condenado &agrave\; nascen&ccedil\
 ;a pelos deuses a assassinar o seu pai e casar com a sua m&atilde\;e cont&
 eacute\;m tamb&eacute\;m o mito do her&oacute\;i que se recusa a fechar os
  olhos &agrave\; realidade e que se cega a si mesmo quando consegue ver\, 
 finalmente\, para al&eacute\;m das apar&ecirc\;ncias. Para o encenador jap
 on&ecirc\;s Kuniaki Ida\, &Eacute\;dipo\, para al&eacute\;m da extraordin&
 aacute\;ria amplitude de leituras que prop&otilde\;e S&oacute\;focles - li
 ter&aacute\;ria\, religiosa\, sociol&oacute\;gica\, antropol&oacute\;gica\
 , jur&iacute\;dica e policial (at&eacute\; psicanal&iacute\;tica para algu
 ns)\, mostra-nos hoje\, nesta &eacute\;poca em que se buscam paradigmas ou
  se aguardam destinos\, a import&acirc\;ncia exemplar dos arqu&eacute\;tip
 os enraizados na nossa mem&oacute\;ria cultural. Num espa&ccedil\;o c&eacu
 te\;nico despojado e dominado por uma gigantesca e opressiva estrutura met
 &aacute\;lica inspirada no trabalho do artista pl&aacute\;stico Richard Se
 rra\, a encena&ccedil\;&atilde\;o procura recuperar as ra&iacute\;zes do t
 eatro&nbsp\;
URL:https://iporto.amp.pt/eventos/espetaculo-edipo-inaugura-o-palacio-do-bo
 lhao/
DTSTART:20150327
DTEND:20150405
CATEGORIES:Teatro
END:VEVENT
END:VCALENDAR
