BEGIN:VCALENDAR
PRODID:-//eluceo/ical//2.0/EN
VERSION:2.0
CALSCALE:GREGORIAN
BEGIN:VEVENT
UID:9b8b2be465876e96492858b09bff8d60
DTSTAMP:20260419T150219Z
SUMMARY:Intermitências Humanas\, de Lina Carvalho
DESCRIPTION:Horário\nDe segunda a sexta-feira das 10:00h às 17:00h\; Sáb
 ado das 10:00h às 13:30h e das 14:30h às 18:00h\; Encerra aos domingos e
  feriados.\n\nDescrição\nOlhar e pensar o humano é uma tarefa complexa 
 mas\, bela. Pois é uma fonte infinita. A nossa capacidade criativa e de r
 einvenção distingue-nos do resto da vida animal.  \n\nMais informa
 ção\nAlguns dos meus trabalhos cristalizam simbolicamente alguns pormeno
 res do que nos define. Tanto positivamente como pelo contr&aacute\;rio. No
  Mito da Caverna de Plat&atilde\;o\, sempre&nbsp\;actual\, questiono o fat
 o de o ser humano\, por comodismo\, afastar-se do intelecto. Hoje\, na era
  da informa&ccedil\;&atilde\;o global\, o conhecimento parece ser cada vez
  mais superficial&hellip\;  &nbsp\; Em KHRONOS o espa&ccedil\;o-tempo 
 &eacute\; gerido por uma m&aacute\;quina sem dimens&otilde\;es.  &nbsp
 \; ANT&Iacute\;GONA\, exemplo de resist&ecirc\;ncia feminina e humana as a
 dversidades.  &nbsp\; Com METAMORFOSE\, a reflex&atilde\;o &eacute\; s
 obre o engenho humano e a sua capacidade de reconstru&ccedil\;&atilde\;o.
   &nbsp\; NO LIMIAR DA RAZ&Atilde\;O\, DOS SONHOS E\, DA VAIDADE\, t
 ransporto a reflex&atilde\;o para dicotomias como &agrave\; raz&atilde\;
 o e a loucura\; o real e &agrave\; fantasia\; e o dilema muito actual 
 &ldquo\;sa&uacute\;de ou apar&ecirc\;ncia&rdquo\; (nem sempre se op&otilde
 \;em... mas a tirania da imagem muitas vezes prejudica a primeira).  &
 nbsp\; Finalmente\, em FAITH II questionei-me sobre a esperan&ccedil\;
 a e a f&eacute\; (em nos)\, caracter&iacute\;sticas espec&iacute\;ficas 
 da nossa esp&eacute\;cie. Elas alimentam &agrave\; nossa capacidade de res
 ili&ecirc\;ncia. Abrem novos horizontes e consequentemente novas viv&ecirc
 \;ncias. &nbsp\;  &nbsp\; LINA&nbsp\;CARVALHO\n\n\nTo observe and thin
 k about the human being is a complex\, but beautiful task. An endless sour
 ce. Our creative and reinventive capacity distinguishes us from the rest o
 f animal life. Some of my works symbolically crystallize some of the detai
 ls that define us\, both in a positive and the opposite way. With the Plat
 o&rsquo\;s Cave Myth\, always going\, I question the fact that the human b
 eing distances itself from the intellect out of selfishness. Today\, in th
 e global information era\, knowledge seems to become more and more superfi
 cial&hellip\; With KHRONOS\, time-space is managed by a machine with no di
 mensions. ANT&Iacute\;GONA\, example of female and human resistance to adv
 ersity. With METAMORFOSE\, I consider the human talent and capacity of rec
 onstruction. With NO LIMIAR DA RAZ&Atilde\;O\, DOS SONHOS E\, DA VAIDADE
  I direct my reflection to dichotomies such as reason and madness\; realit
 y and phantasy\; and the current dilemma &ldquo\;health or appearance&rdqu
 o\; (not always opposite&hellip\; but the tyranny of looks often harms the
  first one).   Finally\, with FAITH II I questioned hope and faith (
 in ourselves)\, that characterize our species. They feed our resilience an
 d offer new horizons\, therefore new experiences.\nLINA CARVALHO\n\n\nMira
 r y pensar el humano es una tarea compleja\, pero bella. Es una fuente inf
 inita. Nuestra capacidad creativa y de reinvenci&oacute\;n nos distingue d
 el resto de la vida animal. Algunos de mis trabajos cristalizan simb&oacut
 e\;licamente algunos detalles de lo que nos define\, tanto positivamente c
 omo al contrario. En el Mito de la Caverna\, de Plat&oacute\;n\, siempre a
 ctual\, cuestiono el facto del ser humano\, por ego&iacute\;smo\, alejarse
  del intelecto. Hoy\, en la era de la informaci&oacute\;n global\, el cono
 cimiento parecer ser cada vez m&aacute\;s superficial&hellip\; En KHRONOS 
 el espacio-tiempo es dirigido por una m&aacute\;quina sin dimensiones. ANT
 &Iacute\;GONA\, ejemplo de resistencia femenina y humana a las adversidade
 s. En METAMORFOSE la reflexi&oacute\;n es sobre el ingenio humano y su cap
 acidad de reconstrucci&oacute\;n. En NO LIMIAR DA RAZ&Atilde\;O\, DOS SONH
 OS E\, DA VAIDADE transporto la reflexi&oacute\;n para dicotom&iacute\;a
 s como la raz&oacute\;n y la locura\; el real y la fantas&iacute\;a\; y el
  dilema muy actual &ldquo\;salud o apariencia&rdquo\; (ni siempre se opone
 n&hellip\; pero la tiran&iacute\;a de la imagen muchas veces perjudica la 
 primera). Finalmente\, en FAITH II me cuestion&eacute\; sobre la esperan
 za y la fe (em nosotros)\, caracter&iacute\;sticas espec&iacute\;ficas de 
 nuestra especie. Ellas alimentan nuestra capacidad de resiliencia. Abren n
 uevos horizontes y consecuentemente nuevas vivencias.\nLINA CARVALHO
URL:https://iporto.amp.pt/eventos/exposicao-intermitencias-humanas-de-lina-
 carvalho/
DTSTART:20210519
DTEND:20210725
LOCATION:Rua 41\, Av. João de Deus\, 4500 Espinho
GEO:41.000797;-8.643697
X-APPLE-STRUCTURED-LOCATION;VALUE=URI;X-ADDRESS=Rua 41\, Av. João de Deus\
 , 4500 Espinho;X-APPLE-RADIUS=49;X-TITLE=:geo:41.000797,-8.643697
CATEGORIES:Exposições
END:VEVENT
END:VCALENDAR
