BEGIN:VCALENDAR
PRODID:-//eluceo/ical//2.0/EN
VERSION:2.0
CALSCALE:GREGORIAN
BEGIN:VEVENT
UID:304ef55d0860d1de79092022cb2eb2dd
DTSTAMP:20260425T182701Z
SUMMARY:Exposição Palco das Marionetas do Teatro e Marionetas de Mandrág
 ora
DESCRIPTION:Horário\nDe segunda a sexta-feira das 10h00 às 17h00\; Sábad
 o das 10h00 às 13h30 e das 14h30 às 18h00\; Encerra aos domingos e feria
 dos.\n\nDescrição\n"Voltada para o mar a exposição do Teatro e Marione
 tas de Mandrágora assiste ao balançar das ondas\, observando o ciclo das
  marés. É em Espinho que as marionetas encontraram a sua casa à mais de
  uma década. (...)"\n\nMais informação\n"(...) Uma&nbsp\;exposi&ccedil\
 ;&atilde\;o agora renovada\, preparada para receber os visitantes\, replet
 a&nbsp\;de&nbsp\;figuras\, peda&ccedil\;os de esculturas. Peda&ccedil\;os 
 de hist&oacute\;rias que viajaram e que muitas vezes subiram ao palco rece
 bendo os sorrisos\, os olhares atentos e as palmas dos espetadores. Viajar
  por esta exposi&ccedil\;&atilde\;o &eacute\; percorrer duas d&eacute\;cad
 as de partilhas. Cada objeto tem e teve um espa&ccedil\;o de existir. Viaj
 amos por autores de grande valor nacional nestas esculturas\, conhecemos u
 m pouco mais do nosso patrim&oacute\;nio atrav&eacute\;s das lendas que aq
 ui se prefiguram. Viajamos por todo um processo de cria&ccedil\;&atilde\;o
  no acompanhar do nascimento destes quase seres\, que encerram em si segre
 dos c&eacute\;nicos. Mas al&eacute\;m da po&eacute\;tica podemos percorrer
  os materiais\, a figura e a forma\, a modela&ccedil\;&atilde\;o\, o desen
 ho\, a escultura\, a mistura de abordagens\, linguagens que fazem parte da
  constru&ccedil\;&atilde\;o das marionetas que constituem este esp&oacute\
 ;lio com mais de meia centena de pe&ccedil\;as."\n\n\nTurned to the sea\, 
 the Teatro e Marionetas de Mandr&aacute\;gora&rsquo\;s exhibition watches 
 the waves\, paying attention to the tides. The puppets have found their ho
 me in Espinho for over a decade. The exhibition was renewed and is now pre
 pared to receive visitors offering plenty of figures\, parts of sculptures
 \, pieces of stories that travelled around and went many times on stage re
 ceiving the smiles\, the attention and the applause of the audience. To vi
 sit this exhibition is to explore two decades of shared experiences. (&hel
 lip\;) Each object has and had its own time and space. We will visit autho
 rs of great national value through these sculptures and get to know a bit 
 more about our heritage through the legends we find here. We will also vis
 it the process of creation\, following the birth of these almost-beings wi
 th many scenery secrets to tell. Besides poetics\, there are materials\, f
 igure and form\, modelling\, drawing\, sculpture\, combined approaches\, l
 anguages that are part of the construction of the puppets comprised in thi
 s collection of over fifty pieces.\n\n\nVolvi&eacute\;ndose hacia el mar\,
  la exposici&oacute\;n del Teatro e Marionetas de Mandr&aacute\;gora asist
 e al balancear de las olas\, observando el ciclo de las mareas. Los t&iacu
 te\;teres han encontrado su casa en Espinho hace m&aacute\;s de una d&eacu
 te\;cada. Una exposici&oacute\;n ahora renovada\, preparada para recibir s
 us visitantes llena de figuras\, partes de esculturas\, pedazos de histori
 as que viajaron y que muchas veces subieron al escenario para recibir las 
 sonrisas\, las miradas atentas y el aplauso de los espectadores. Viajar po
 r esta exposici&oacute\;n es recorrer dos d&eacute\;cadas de experiencias 
 compartidas. (&hellip\;) Cada objeto tiene y tuvo un espacio de existir. V
 iajamos por autores de gran valor nacional en estas esculturas\, conocemos
  un poco m&aacute\;s sobre nuestro patrimonio a trav&eacute\;s de las leye
 ndas que encontramos aqu&iacute\;. Viajamos por todo el proceso de creaci&
 oacute\;n\, acompa&ntilde\;ando el nacimiento de estos casi seres\, con mu
 chos secretos esc&eacute\;nicos. Y adem&aacute\;s de la po&eacute\;tica\, 
 podemos recorrer los materiales\, la figura y la forma\, la modelaci&oacut
 e\;n\, el dibujo\, la escultura\, la mezcla de abordajes\, lenguajes que h
 acen parte de la construcci&oacute\;n de los t&iacute\;teres que constituy
 en esta colecci&oacute\;n con m&aacute\;s de cincuenta piezas.
URL:https://iporto.amp.pt/eventos/exposicao-palco-das-marionetas-do-teatro-
 e-marionetas-de-mandragora-6/
DTSTART:20210701
DTEND:20210801
LOCATION:Rua 41\, Av. João de Deus\, 4500 Espinho
GEO:41.000797;-8.643697
X-APPLE-STRUCTURED-LOCATION;VALUE=URI;X-ADDRESS=Rua 41\, Av. João de Deus\
 , 4500 Espinho;X-APPLE-RADIUS=49;X-TITLE=:geo:41.000797,-8.643697
CATEGORIES:Exposições
END:VEVENT
END:VCALENDAR
