BEGIN:VCALENDAR
PRODID:-//eluceo/ical//2.0/EN
VERSION:2.0
CALSCALE:GREGORIAN
BEGIN:VEVENT
UID:cda9ef1656f513f6b89155fd1ac9e20b
DTSTAMP:20260422T185004Z
SUMMARY:Festa das Fogaceiras
DESCRIPTION:Horário\n10:30h-18:00h\n\nDescrição\nA Festa das Fogaceiras 
 é a mais emblemática festividade do Concelho de Santa Maria da Feira. Te
 ve origem num voto ao mártir S. Sebastião\, em 1505\, altura em que a re
 gião foi assolada por um surto de peste que dizimou parte da população.
  Em troca de proteção\, o povo prometeu ao santo a oferta de um pão doc
 e chamado Fogaça.  Preservando a tradição\, todos os anos\, no dia 20 d
 e Janeiro\, centenas de meninas\, vestidas e calçadas de branco\, desfila
 m com a Fogaça do voto à cabeça\, durante o cortejo cívico e a prociss
 ão.
URL:https://iporto.amp.pt/eventos/festa-das-fogaceiras-7/
DTSTART:20150120
CATEGORIES:Ar Livre
END:VEVENT
END:VCALENDAR
