BEGIN:VCALENDAR
PRODID:-//eluceo/ical//2.0/EN
VERSION:2.0
CALSCALE:GREGORIAN
BEGIN:VEVENT
UID:d2954a809f2780e43cd95b278ebacd5d
DTSTAMP:20260423T161211Z
SUMMARY:Festa em Honra de Nossa Senhora da Ajuda
DESCRIPTION:Descrição\nEspinho recebe tradicionalmente\, no 3º fim de se
 mana de setembro\, milhares de fiéis numa festa que vive do religioso mas
  também do programa profano. A Majestosa Procissão com a bênção ao Ma
 r\, as engalanadas ruas decoradas com tapetes de flores\, os espetáculos 
 musicais e o fogo de artifício lançado da Praia da Baía.\n\nMais inform
 ação\nEntrada livre
URL:https://iporto.amp.pt/eventos/festa-em-honra-de-nossa-senhora-da-ajuda/
DTSTART:20190913
DTEND:20190917
CATEGORIES:Ar Livre
END:VEVENT
END:VCALENDAR
