BEGIN:VCALENDAR
PRODID:-//eluceo/ical//2.0/EN
VERSION:2.0
CALSCALE:GREGORIAN
BEGIN:VEVENT
UID:9e84d0740e8f39ef668a4308abcb4c7c
DTSTAMP:20260420T090046Z
SUMMARY:Fragrância e Forma: Design e Cultura do Perfume
DESCRIPTION:Horário\nTer-Sex 10:00-13:00/15:00-18:00 | Sab\, dom\, feriado
 s 15:00-18:00\n\nDescrição\nPartindo do século XIX até ao período que
  se demarcou entre guerras\, Fragrância e Forma: Design e Cultura do Perf
 ume analisa minuciosamente “a ideia de perfume\, e a materialização de
  uma estética para envolver e comercializar essa mesma ideia”.\n\nAndre
 w Howard\, curador da exposição\, parte da coleção privada de Afonso O
 liveira\, que inclui peças notáveis da arte dos frascos e embalagens de 
 perfumes europeus\, nomeadamente\, da indústria portuguesa. É este o pon
 to central da exposição.\n\nMais informação\nEntrada livre\n\nCom cura
 doria do docente e investigador Andrew Howard e comissariada por Afonso Ol
 iveira\, colecionador de perfumes.\n\nExposição organizada pela Câmara 
 Municipal de Matosinhos e a esad—idea\n\n12 Jul 16:00 - Visita guiada pe
 lo comissário Afonso Oliveira
URL:https://iporto.amp.pt/eventos/fragrancia-e-forma-design-e-cultura-do-pe
 rfume/
DTSTART:20250531
DTEND:20251001
LOCATION:Edifício Paços do Concelho\, Rua de Alfredo Cunha\, 4450-009 Mat
 osinhos
GEO:41.183722;-8.683381
X-APPLE-STRUCTURED-LOCATION;VALUE=URI;X-ADDRESS=Edifício Paços do Concelh
 o\, Rua de Alfredo Cunha\, 4450-009 Matosinhos;X-APPLE-RADIUS=49;X-TITLE=:
 geo:41.183722,-8.683381
CATEGORIES:Exposições
END:VEVENT
END:VCALENDAR
