BEGIN:VCALENDAR
PRODID:-//eluceo/ical//2.0/EN
VERSION:2.0
CALSCALE:GREGORIAN
BEGIN:VEVENT
UID:5bc5b71f71670f858fd7c5c6b04f44a3
DTSTAMP:20260420T103610Z
SUMMARY:Há Festa na Aldeia
DESCRIPTION:Horário\n12:30-23:00\n\nDescrição\n30 Ago\n\n15:00 Diogo Pic
 ão\n20:00 Soul Trio\n21:30 Ricardo Azevedo com Banda Marcial do Vale\n\n3
 1 Ago\n\n12:30 Soul Trio\n18:00 Coletivo Capela\n\nMais informação\nhttp
 s://cm-feira.pt/ha-festa-na-aldeia
URL:https://iporto.amp.pt/eventos/ha-festa-na-aldeia-2/
DTSTART:20250830
DTEND:20250901
CATEGORIES:Música
END:VEVENT
END:VCALENDAR
