BEGIN:VCALENDAR
PRODID:-//eluceo/ical//2.0/EN
VERSION:2.0
CALSCALE:GREGORIAN
BEGIN:VEVENT
UID:1824b0eef87acd4d74d5a24152db59cc
DTSTAMP:20260420T124834Z
SUMMARY:200 Anos do Nascimento de Camilo Castelo Branco
DESCRIPTION:Horário\nSeg-Sex 09:30-11:30/14:30-17:00\n\nDescrição\nExpos
 ição Homenagem /Comemorativa dos 200 Anos do Nascimento de Camilo Castel
 o Branco.\n\nMais informação\nInauguração: 2 Ago 21:30\n\nOrg.: Argo -
  Associação Artística de Gondomar
URL:https://iporto.amp.pt/eventos/homenagem-comemoracao-dos-200-anos-do-nas
 cimento-de-camilo-castelo-branco/
DTSTART:20250802
DTEND:20250830
LOCATION:Pavilhão Municipal de Fânzeres\, Largo Júlio Dinis\, 4510-586 U
 nião das freguesias de Fânzeres e São Pedro da Cova
CATEGORIES:Exposições
END:VEVENT
END:VCALENDAR
