BEGIN:VCALENDAR
PRODID:-//eluceo/ical//2.0/EN
VERSION:2.0
CALSCALE:GREGORIAN
BEGIN:VEVENT
UID:a9ffc7c5f928641b5cf6cb650ef6e058
DTSTAMP:20260421T083851Z
SUMMARY:IV Festival Internacional de Magia da Maia
DESCRIPTION:Horário\n16:00 I 21:30\n\nDescrição\nO Festival Internaciona
 l de Magia da Maia reúne alguns dos mais conceituados e premiados ilusion
 istas do planeta\, desta vez com duas sessões num espetáculo pensado par
 a toda a família\, a não perder.\n\nMais informação\nBilhetes à venda
 : Bol.pt | Fórum da Maia e locais habituais\n\nBilhete Individual – 5\,
 00€\nBilhete Família (4 bilhetes) – 15\,00€
URL:https://iporto.amp.pt/eventos/iv-festival-internacional-de-magia-da-mai
 a/
DTSTART:20251213
LOCATION:Rua Eng. Duarte Pacheco\, 131\n4474-006 Maia
GEO:41.234501;-8.622922
X-APPLE-STRUCTURED-LOCATION;VALUE=URI;X-ADDRESS=Rua Eng. Duarte Pacheco\, 1
 31\n4474-006 Maia;X-APPLE-RADIUS=49;X-TITLE=:geo:41.234501,-8.622922
CATEGORIES:Etc
END:VEVENT
END:VCALENDAR
