BEGIN:VCALENDAR
PRODID:-//eluceo/ical//2.0/EN
VERSION:2.0
CALSCALE:GREGORIAN
BEGIN:VEVENT
UID:2ea4389bf35f9a8e6c1f6308a22e529f
DTSTAMP:20260420T143104Z
SUMMARY:JP Simões canta José Mário Branco
DESCRIPTION:Horário\n21:00\n\nDescrição\nO Coliseu Porto Ageas assinala 
 o 25 de Abril com um concerto muito especial de JP Simões: uma homenagem 
 a José Mário Branco\, uma das personalidades que mais marcaram a música
  portuguesa desde a década de 1960\, e que nos deixou em 2019.\n\nApós o
  lançamento do disco\, em 2024\, JP Simões - cantor\, compositor\, letri
 sta\, contista e dramaturgo - canta-o ao vivo\, dia 23 de abril\, no mesmo
  palco onde José Mário Branco cantou tantas vezes.\n\nMais informação\
 nDo disco fazem parte oito canções\, como "Do que um homem e capaz"\, "S
 opram ventos adversos" ou "Mudam-se os tempos\, mudam-se as vontades"\, co
 m a voz de JP Simões acompanhada pela guitarra de Nuno Ferreira\, a percu
 ssão de Ruca Rebordão e o contrabaixo de Pedro Pinto.
URL:https://iporto.amp.pt/eventos/jp-simoes-canta-jose-mario-branco/
DTSTART:20250423
LOCATION:Rua Passos Manuel\, 137\, 4000-385 Porto
GEO:41.146845;-8.605474
X-APPLE-STRUCTURED-LOCATION;VALUE=URI;X-ADDRESS=Rua Passos Manuel\, 137\, 4
 000-385 Porto;X-APPLE-RADIUS=49;X-TITLE=:geo:41.146845,-8.605474
CATEGORIES:Música
END:VEVENT
END:VCALENDAR
