BEGIN:VCALENDAR
PRODID:-//eluceo/ical//2.0/EN
VERSION:2.0
CALSCALE:GREGORIAN
BEGIN:VEVENT
UID:102d4f411f20517b7233fcb864e29810
DTSTAMP:20260421T181550Z
SUMMARY:Museu do Papel Moeda
DESCRIPTION:Horário\nsegunda a sexta\, 10:00h-12:30h\, 15:00h-18:00h\; Sá
 bados e Domingos\, mediante marcação prévia. Excepto no mês de Agosto.
 \n\nDescrição\nEsta exposição narra a história do dinheiro de papel\,
  desde o século XVIII até ao presente. Sendo uma das maiores colecções
  de papel moeda de toda a Europa\, reúne todas as emissões de nota do Ba
 nco de Portugal e do Banco Nacional Ultramarino\, para além de cédulas\,
  acções e lotarias.
URL:https://iporto.amp.pt/eventos/museu-do-papel-moeda-1/
DTSTART:20070702
DTEND:20070929
LOCATION:Avenida da Boavista\, 4245\, 4100-140 Porto
GEO:41.165127;-8.673283
X-APPLE-STRUCTURED-LOCATION;VALUE=URI;X-ADDRESS=Avenida da Boavista\, 4245\
 , 4100-140 Porto;X-APPLE-RADIUS=49;X-TITLE=:geo:41.165127,-8.673283
CATEGORIES:Exposições
END:VEVENT
END:VCALENDAR
