BEGIN:VCALENDAR
PRODID:-//eluceo/ical//2.0/EN
VERSION:2.0
CALSCALE:GREGORIAN
BEGIN:VEVENT
UID:8913bd19d0041496e7a90a86caae8fb9
DTSTAMP:20260425T142437Z
SUMMARY:Nduduzo Makhathini & Orquestra de Jazz de Espinho
DESCRIPTION:Horário\n21:30\n\nDescrição\nO pianista sul-africano Nduduzo
  Makhathini junta-se à Orquestra de Jazz de Espinho para um concerto que 
 une jazz e espiritualidade africana. Com uma abordagem ritual à música\,
  apresenta composições suas adaptadas para big band\, explorando novas d
 imensões harmónicas e rítmicas e promovendo um diálogo intenso entre o
  piano e a orquestra.
URL:https://iporto.amp.pt/eventos/nduduzo-makhathini-orquestra-de-jazz-de-e
 spinho/
DTSTART:20260502
LOCATION:Rua 34\, 884\, 4500-318 Espinho
GEO:41.006337;-8.642487
X-APPLE-STRUCTURED-LOCATION;VALUE=URI;X-ADDRESS=Rua 34\, 884\, 4500-318 Esp
 inho;X-APPLE-RADIUS=49;X-TITLE=:geo:41.006337,-8.642487
CATEGORIES:Música
END:VEVENT
END:VCALENDAR
