BEGIN:VCALENDAR
PRODID:-//eluceo/ical//2.0/EN
VERSION:2.0
CALSCALE:GREGORIAN
BEGIN:VEVENT
UID:a599e5b69419e4f9a0149a255542cfdb
DTSTAMP:20260423T170541Z
SUMMARY:Noite Branca
DESCRIPTION:Horário\n22:00\n\nDescrição\nDas 22:00 às 04:00\, todos est
 ão convidados a vestir-se de branco e sair à rua para se divertir nos di
 ferentes pontos espalhados pela cidade: Passeio Alegre\, Praça da Repúbl
 ica\, Praça do Almada e Esplanada do Carvalhido. \n\nNestes locais vão p
 assar\, ao longo da noite\, grandes temas musicais a cargo dos DJ convidad
 os Chinelos com vida (dupla)\, Caseira\, Rubem T\, Wilson Honrado\, Bruno 
 Guedes Vieira\, Merche Romero\, Pedro Cazanova\, Luisinho (Tiger Lewis)\, 
 João Duque e Alex. Além da animação musical\, a magia da Noite Branca 
 estará um pouco por toda a cidade com as andas\, artes circenses e acroba
 cias variadas.\n\nMais informação\nhttps://www.cm-pvarzim.pt/comunicacao
 /noticias/noite-branca-e-na-povoa-de-varzim/
URL:https://iporto.amp.pt/eventos/noite-branca-6/
DTSTART:20240824
CATEGORIES:Ar Livre,Ar Livre
END:VEVENT
END:VCALENDAR
