BEGIN:VCALENDAR
PRODID:-//eluceo/ical//2.0/EN
VERSION:2.0
CALSCALE:GREGORIAN
BEGIN:VEVENT
UID:e3ef6d9a9b9b276e9c11c045e3120bbb
DTSTAMP:20260423T182905Z
SUMMARY:O Presépio Tradicional Poveiro
DESCRIPTION:Horário\nTer-Dom 09:30-12:30/13:30-17:00\n\nMais informação\
 n12 Dez 16:30 - Inauguração da exposição\n\n12 Dez 17:00 - Visita guia
 da temática - Os Animais do Presépio\n\n12\, 19 Dez 17:30 - Teatro de ma
 rionetas - Cantigas ao Menino\n\nEntrada livre\n\nhttps://www.cm-pvarzim.p
 t/eventos/o-natal-no-museu/
URL:https://iporto.amp.pt/eventos/o-presepio-tradicional-poveiro-2/
DTSTART:20251212
DTEND:20260112
CATEGORIES:Exposições
END:VEVENT
END:VCALENDAR
