BEGIN:VCALENDAR
PRODID:-//eluceo/ical//2.0/EN
VERSION:2.0
CALSCALE:GREGORIAN
BEGIN:VEVENT
UID:8f34a5de6c1f426702041342f0385e8d
DTSTAMP:20260421T101734Z
SUMMARY:O Salvado
DESCRIPTION:Horário\nQui\, Sab 19:00 | Sex 21:00\n\nDescrição\nPercorrid
 as sete décadas de vida e uma das mais longas e prolíficas carreiras da 
 dança portuguesa\, o que se salva? Olga Roriz responde no palco do Teatro
  Carlos Alberto com um novo solo: O Salvado. Como um náufrago que escapa 
 à catástrofe\, a coreógrafa e bailarina agarra-se à matéria do mundo\
 , partilhando com o público o que do passado\, presente e futuro se despr
 ende e produz vida. Um percurso ímpar\, construído a partir de largas de
 zenas de criações e celebrado com os mais importantes prémios artístic
 os nacionais e internacionais.\n\nMais informação\ndireção\, interpret
 ação\, textos e escolha musical\nOlga Roriz\n\nprodução\nCompanhia Olg
 a Roriz\n\ncoprodução\nSão Luiz Teatro Municipal\, Teatro Aveirense\, C
 ineteatro Louletano\, Teatro Nacional São João
URL:https://iporto.amp.pt/eventos/o-salvado/
DTSTART:20250703
DTEND:20250706
LOCATION:Rua das Oliveiras\, 43\, 4050-449 Porto
GEO:41.149128;-8.615033
X-APPLE-STRUCTURED-LOCATION;VALUE=URI;X-ADDRESS=Rua das Oliveiras\, 43\, 40
 50-449 Porto;X-APPLE-RADIUS=49;X-TITLE=:geo:41.149128,-8.615033
CATEGORIES:Dança
END:VEVENT
END:VCALENDAR
