BEGIN:VCALENDAR
PRODID:-//eluceo/ical//2.0/EN
VERSION:2.0
CALSCALE:GREGORIAN
BEGIN:VEVENT
UID:a5ced9b5ac6bc079c4d6845181d50f07
DTSTAMP:20260421T085528Z
SUMMARY:Orquestra Portuguesa de Guitarras e Bandolins
DESCRIPTION:Horário\n16:30h
URL:https://iporto.amp.pt/eventos/orquestra-portuguesa-de-guitarras-e-bando
 lins-2/
DTSTART:20170305
LOCATION:Avenida 25 de Abril\, 103\, 4420–065 Gondomar
GEO:41.136958;-8.533113
X-APPLE-STRUCTURED-LOCATION;VALUE=URI;X-ADDRESS=Avenida 25 de Abril\, 103\,
  4420–065 Gondomar;X-APPLE-RADIUS=49;X-TITLE=:geo:41.136958,-8.533113
CATEGORIES:Música
END:VEVENT
END:VCALENDAR
