BEGIN:VCALENDAR
PRODID:-//eluceo/ical//2.0/EN
VERSION:2.0
CALSCALE:GREGORIAN
BEGIN:VEVENT
UID:69b4b9114f7f005d0e0626e8c9ff592f
DTSTAMP:20260421T164001Z
SUMMARY:Professor Mágico
DESCRIPTION:Horário\nSeg 14:00-18:00 Ter-Sab 10:00-18:00 Dom\, feriados en
 cerrado\n\nDescrição\nA  nova exposição no Gabinete Gráfico\, em cola
 boração com Francisco José Viegas\, é a primeira mostra dedicada ao co
 mpositor Eurico Augusto Cebolo (Coleja 1938 – Porto 2021)\, figura incon
 tornável da cultura popular portuguesa da segunda metade do século XX. M
 úsico\, compositor\, pedagogo e escritor\,\nCebolo deixa um singular lega
 do musical\, literário e pedagógico consubstanciado em livros para o ens
 ino de música e romances de cordel. Foi também o fundador da loja e edit
 ora Musicart\, situada no n.º 80 da Rua da Boavista (Porto) que\, até 20
 11\, publicou 61 livros\, dos quais 51 manuais dedicados ao ensino da mús
 ica e 10 romances.\n\nMais informação\nCuradoria: Jorge Sobrado e Rita R
 oque.\n\nEntrada gratuita. \n\nA exposição decorre no Gabinete Gráfico 
 - Foyer do Auditório da Biblioteca Almeida Garrett\n\nhttps://museudoport
 o.pt/exhibition/professor-magico-tributo-a-eurico-augusto-cebolo/
URL:https://iporto.amp.pt/eventos/professor-magico/
DTSTART:20240217
DTEND:20240428
LOCATION:Rua de D. Manuel II\nJardins do Palácio de Cristal\n4050-239 Port
 o
GEO:41.148526;-8.625502
X-APPLE-STRUCTURED-LOCATION;VALUE=URI;X-ADDRESS=Rua de D. Manuel II\nJardin
 s do Palácio de Cristal\n4050-239 Porto;X-APPLE-RADIUS=49;X-TITLE=:geo:41
 .148526,-8.625502
CATEGORIES:Exposições
END:VEVENT
END:VCALENDAR
