BEGIN:VCALENDAR
PRODID:-//eluceo/ical//2.0/EN
VERSION:2.0
CALSCALE:GREGORIAN
BEGIN:VEVENT
UID:1d3974901c66c9211c93a85059a77214
DTSTAMP:20260421T090920Z
SUMMARY:Sem terra à vista
DESCRIPTION:Horário\nTer-Dom 10:00-12:30/14:00-17:30 Seg encerrado\n\nDesc
 rição\nCom cerca de 100 obras da Coleção Norlinda e José Lima\, a exp
 osição toma como referência o último livro do poeta sérvio-americano 
 Charles Simic\, No Land in Sight: Poems (2022)\, assumindo a metáfora da 
 navegação sem horizonte como imagem de uma humanidade confrontada com in
 stabilidade política\, fragilidade democrática\, crise climática e desi
 gualdades estruturais.\n \nCuradoria: Paula Cabaleiro\n\nMais informação
 \nInauguração às 16:00
URL:https://iporto.amp.pt/eventos/sem-terra-a-vista/
DTSTART:20260418
DTEND:20270125
LOCATION:Rua Paula Rego\, 3700-119 S. João da Madeira
GEO:40.906111;-8.497440
X-APPLE-STRUCTURED-LOCATION;VALUE=URI;X-ADDRESS=Rua Paula Rego\, 3700-119 S
 . João da Madeira;X-APPLE-RADIUS=49;X-TITLE=:geo:40.906111,-8.497440
CATEGORIES:Exposições
END:VEVENT
END:VCALENDAR
