BEGIN:VCALENDAR
PRODID:-//eluceo/ical//2.0/EN
VERSION:2.0
CALSCALE:GREGORIAN
BEGIN:VEVENT
UID:b48e3bb064bd4e78d2e5670eb63d5c86
DTSTAMP:20260422T143047Z
SUMMARY:Termos e Condições
DESCRIPTION:Horário\n19:00\n\nDescrição\n"Termos e Condições" é uma p
 esquisa criada a partir de um processo de contaminação entre diferentes 
 matérias (movimento\, palavra\, figurino e cenografia). A partir daí est
 rutura-se uma dramaturgia sensível que invoca a intensidade e velocidade 
 das redes sociais\, a diluição das\nfronteiras entre o real e o virtual\
 , a plasticidade da atenção e a sensação de estarmos perto do\ncolapso
 .\n\nMais informação\nhttp://thsc.pt/?page_id=6394
URL:https://iporto.amp.pt/eventos/termos-e-condicoes/
DTSTART:20260509
LOCATION:Rua da Escola Normal\, 39\, 4000-099 Porto
CATEGORIES:Teatro
END:VEVENT
END:VCALENDAR
