BEGIN:VCALENDAR
PRODID:-//eluceo/ical//2.0/EN
VERSION:2.0
CALSCALE:GREGORIAN
BEGIN:VEVENT
UID:bee8c7fc5bbaf4228ec61facd1ef0fe7
DTSTAMP:20260423T171731Z
SUMMARY:Water Slide Summer
DESCRIPTION:Horário\n10:00h>13:00h | 14:00h>19:00h\n\nDescrição\nO Water
  Slide Summer está de regresso a Santo Tirso para dinamizar a cidade e pr
 oporcionar momentos memoráveis a todos os munícipes. Despertar a adrenal
 ina e a alegria do público é o objetivo desta iniciativa. A cidade volta
  este ano a transformar-se num Parque Urbano Aquático\, com muita música
  e diversão\, para proporcionar um fim de semana inesquecível. O Water S
 lide Summer Santo Tirso 2018 é composto por um escorrega gigante com duas
  pistas para deslizar com família e amigos\, piscinas para crianças\, in
 sufláveis gigantes\, uma parede de escalada e\, ainda\, aulas de Zumba\, 
 muita música e DJ´s acompanhados de animadores.\n\nMais informação\nP&
 uacute\;blico geral.&nbsp\; IDADE M&Iacute\;NIMA PARA USO DE EQUIPAMENTO: 
 12 anos (altura m&iacute\;nima 1.20m) ou 5 anos acompanhado de respons&aac
 ute\;vel). + informa&ccedil\;&atilde\;o: (juventude@cm-stirso.pt | 913 487
  037) &nbsp\;
URL:https://iporto.amp.pt/eventos/water-slide-summer/
DTSTART:20180804
DTEND:20180806
CATEGORIES:Etc
END:VEVENT
END:VCALENDAR
